BEGIN:VCALENDAR
VERSION:2.0
PRODID:-//Country Beads - ECPv6.3.5//NONSGML v1.0//EN
CALSCALE:GREGORIAN
METHOD:PUBLISH
X-WR-CALNAME:Country Beads
X-ORIGINAL-URL:https://www.countrybeads.com
X-WR-CALDESC:Events for Country Beads
REFRESH-INTERVAL;VALUE=DURATION:PT1H
X-Robots-Tag:noindex
X-PUBLISHED-TTL:PT1H
BEGIN:VTIMEZONE
TZID:UTC
BEGIN:STANDARD
TZOFFSETFROM:+0000
TZOFFSETTO:+0000
TZNAME:UTC
DTSTART:20180101T000000
END:STANDARD
END:VTIMEZONE
BEGIN:VEVENT
DTSTART;TZID=UTC:20181027T103000
DTEND;TZID=UTC:20181027T123000
DTSTAMP:20260423T200637
CREATED:20180827T080912Z
LAST-MODIFIED:20180827T080912Z
UID:10147-1540636200-1540643400@www.countrybeads.com
SUMMARY:Crochet Beading
DESCRIPTION:Learn to make beautiful\, delicate designs with cord and beads using crochet techniques. You will leave with a gorgeous piece that can work as a multi-wrap bracelet or a necklace. The skills taught in this class can be used to make bracelets\, necklaces\, and more!
URL:https://www.countrybeads.com/event/crochet-beading-5/
LOCATION:CountryBeads\, 2015 West 4th Avenue\, Vancouver\, British Columbia\, V6J 1N3\, Canada
CATEGORIES:Workshops
END:VEVENT
END:VCALENDAR